BEGIN:VCALENDAR
VERSION:2.0
PRODID:-//Fehgra Comodoro - ECPv6.15.17//NONSGML v1.0//EN
CALSCALE:GREGORIAN
METHOD:PUBLISH
X-WR-CALNAME:Fehgra Comodoro
X-ORIGINAL-URL:https://www.fehgracomodoro.com.ar
X-WR-CALDESC:Eventos para Fehgra Comodoro
REFRESH-INTERVAL;VALUE=DURATION:PT1H
X-Robots-Tag:noindex
X-PUBLISHED-TTL:PT1H
BEGIN:VTIMEZONE
TZID:America/Argentina/Buenos_Aires
BEGIN:STANDARD
TZOFFSETFROM:-0300
TZOFFSETTO:-0300
TZNAME:-03
DTSTART:20180101T000000
END:STANDARD
END:VTIMEZONE
BEGIN:VEVENT
DTSTART;VALUE=DATE:20190830
DTEND;VALUE=DATE:20190902
DTSTAMP:20260424T122128
CREATED:20190514T231942Z
LAST-MODIFIED:20190531T163118Z
UID:12236-1567123200-1567382399@www.fehgracomodoro.com.ar
SUMMARY:Comodoro Invita 2019
DESCRIPTION:Este año el Festival se dará cita una vez más en el PREDIO FERIAL COMODORO\, los días 30\, 31 de Agosto y 1 de Septiembre\, en el marco de la Expo Turismo 2019\, con entrada LIBRE Y GRATUITA y contará con más de 100 stands entre los dos eventos. \nSe reunirán restaurantes locales en un solo lugar\, para que las familias puedan elegir y disfrutar de los menúes preparados especialmente para esta ocasión\, en un patio de comidas cómodo y amplio. \nSe sumarán a esta propuesta los institutos de gastronomía de nuestra ciudad IGA e ISGH y cocineros de otras localidades de la Patagonia. Acompañarán productores regionales que estarán exponiendo fruta fina\, alfajores\, chocolates\, jugos naturales\, quesos y embutidos\, pastelería celíaca\, mariscos\, escabeches de pavo\, hierbas aromáticas y especias\, dulces caseros\, chutneys\, frutos secos\, cervezas artesanales\, vinos de la región y mucho mas. \n  \n \n  \nCompartir
URL:https://www.fehgracomodoro.com.ar/evento/comodoro-invita-2019/
LOCATION:Predio Ferial Comodoro Rivadavia\, 5GWC+9R Comodoro Rivadavia\, Chubut\, Comodoro Rivadavia\, Chubut\, Argentina
CATEGORIES:Comodoro Invita
ATTACH;FMTTYPE=image/jpeg:https://www.fehgracomodoro.com.ar/wp-content/uploads/2019/05/cdro-invita.jpg
ORGANIZER;CN="Fehgra Comodoro":MAILTO:comodoro@fehgra.org.ar
END:VEVENT
END:VCALENDAR